BEGIN:VCALENDAR
VERSION:2.0
PRODID:-//CMMF : Mission Mennonite - ECPv5.11.0//NONSGML v1.0//EN
CALSCALE:GREGORIAN
METHOD:PUBLISH
X-WR-CALNAME:CMMF : Mission Mennonite
X-ORIGINAL-URL:https://www.missionmennonite.fr
X-WR-CALDESC:évènements pour CMMF : Mission Mennonite
BEGIN:VTIMEZONE
TZID:Europe/Paris
BEGIN:DAYLIGHT
TZOFFSETFROM:+0100
TZOFFSETTO:+0200
TZNAME:CEST
DTSTART:20210328T010000
END:DAYLIGHT
BEGIN:STANDARD
TZOFFSETFROM:+0200
TZOFFSETTO:+0100
TZNAME:CET
DTSTART:20211031T010000
END:STANDARD
END:VTIMEZONE
BEGIN:VEVENT
DTSTART;TZID=Europe/Paris:20211002T093000
DTEND;TZID=Europe/Paris:20211002T170000
DTSTAMP:20260420T230815
CREATED:20211020T082604Z
LAST-MODIFIED:20211020T083345Z
UID:17076-1633167000-1633194000@www.missionmennonite.fr
SUMMARY:Journée-rencontre mission
DESCRIPTION:
URL:https://www.missionmennonite.fr/evenement/journee-rencontre-mission/
LOCATION:BELFORT – Eglise mennonite\, 2B Rue Jean Dollfus\, Belfort\, 90000\, France
END:VEVENT
BEGIN:VEVENT
DTSTART;TZID=Europe/Paris:20211020T140000
DTEND;TZID=Europe/Paris:20211020T170000
DTSTAMP:20260420T230815
CREATED:20211020T082739Z
LAST-MODIFIED:20211020T092447Z
UID:17080-1634738400-1634749200@www.missionmennonite.fr
SUMMARY:"Irrésistible" :  Journée Mission "Irrésistible"
DESCRIPTION:
URL:https://www.missionmennonite.fr/evenement/irresistible-journee-mission-irresistible/
LOCATION:MONTBELIARD – Eglise de la Prairie\, 3 Rte de Grand Charmont\, Montbéliard\, 25200\, France
ATTACH;FMTTYPE=image/jpeg:https://www.missionmennonite.fr/wp-content/uploads/2021/10/missionnaires-en-route.jpg
END:VEVENT
BEGIN:VEVENT
DTSTART;TZID=Europe/Paris:20211028T201500
DTEND;TZID=Europe/Paris:20211028T223000
DTSTAMP:20260420T230816
CREATED:20211020T083059Z
LAST-MODIFIED:20211020T092507Z
UID:17084-1635452100-1635460200@www.missionmennonite.fr
SUMMARY:Première rencontre autour du livre (re)unir
DESCRIPTION:Inscription jusqu’au 20 octobre sur https://fr.bienenberg.ch/sem/reunir
URL:https://www.missionmennonite.fr/evenement/premiere-rencontre-autour-du-livre-reunir/
LOCATION:En distanciel
ATTACH;FMTTYPE=image/jpeg:https://www.missionmennonite.fr/wp-content/uploads/2021/10/evenement-02.jpg
END:VEVENT
END:VCALENDAR